BEGIN:VCALENDAR
PRODID:-//http://statistik.d-u-v.org//PHP ultracalendar//EN
VERSION:2.0
METHOD:PUBLISH
BEGIN:VEVENT
DTSTAMP:20260423T062917
CREATED:20181203T124614
UID:1776925757.0.13838200-53407@statistik.d-u-v.org
SUMMARY:Run the Rock 50 Km
DESCRIPTION: Run the Rock 50 Km\n
  \n
  
DTSTART:20191109T073000
DTEND:00000000T235900
LOCATION:Terrebonne, OR\, USA
URL:https://www.alpinerunning.co
CATEGORIES:Ultramarathon
CONTACT:
CLASS:PUBLIC
PRIORITY:5
TRANSP:OPAQUE
END:VEVENT
END:VCALENDAR
