BEGIN:VCALENDAR
PRODID:-//http://statistik.d-u-v.org//PHP ultracalendar//EN
VERSION:2.0
METHOD:PUBLISH
BEGIN:VEVENT
DTSTAMP:20260422T145644
CREATED:20181130T162845
UID:1776869804.0.70450700-53234@statistik.d-u-v.org
SUMMARY:Devil o' the Highlands Footrace
DESCRIPTION: Devil o' the Highlands Footrace\n
  John Duncan\n
  devil[at]devilothehighlandsfootrace.co.uk
DTSTART:20190803T060000
DTEND:20190803T180000
LOCATION:Tyndrum\, GBR
URL:http://www.devilothehighlandsfootrace.co.uk/
CATEGORIES:Ultramarathon
CONTACT:John Duncan
CLASS:PUBLIC
PRIORITY:5
TRANSP:OPAQUE
END:VEVENT
END:VCALENDAR
