BEGIN:VCALENDAR
PRODID:-//http://statistik.d-u-v.org//PHP ultracalendar//EN
VERSION:2.0
METHOD:PUBLISH
BEGIN:VEVENT
DTSTAMP:20260419T170301
CREATED:20181130T214633
UID:1776618181.0.34465800-53232@statistik.d-u-v.org
SUMMARY:Bremer Bergmarathon mit Höhenmetersammlung
DESCRIPTION: Bremer Bergmarathon mit Höhenmetersammlung\n
  Olaf Häsler\n
  olaf.haesler[at]nord-com.net
DTSTART:20191123T090000
DTEND:00000000T235900
LOCATION:Bremen\, GER
URL:http://my4.raceresult.com/113550/?lang=de
CATEGORIES:Ultramarathon
CONTACT:Olaf Häsler
CLASS:PUBLIC
PRIORITY:5
TRANSP:OPAQUE
END:VEVENT
END:VCALENDAR
