BEGIN:VCALENDAR
PRODID:-//http://statistik.d-u-v.org//PHP ultracalendar//EN
VERSION:2.0
METHOD:PUBLISH
BEGIN:VEVENT
DTSTAMP:20260425T195249
CREATED:20181129T141639
UID:1777146769.0.03614700-53150@statistik.d-u-v.org
SUMMARY:Lhotse 200 - 48 Hour Run
DESCRIPTION: Lhotse 200 - 48 Hour Run\n
  Wyatt Hockmeyer\n
  whockmeyer[at]lhotsemanagement.com
DTSTART:20180901T080000
DTEND:20180903T235900
LOCATION:Owasso, OK\, USA
URL:https://www.lhotsemanagement.com/lhotse-200.html
CATEGORIES:Ultramarathon
CONTACT:Wyatt Hockmeyer
CLASS:PUBLIC
PRIORITY:5
TRANSP:OPAQUE
END:VEVENT
END:VCALENDAR
