BEGIN:VCALENDAR
PRODID:-//http://statistik.d-u-v.org//PHP ultracalendar//EN
VERSION:2.0
METHOD:PUBLISH
BEGIN:VEVENT
DTSTAMP:20260425T175930
CREATED:20181129T123101
UID:1777139970.0.97920700-53144@statistik.d-u-v.org
SUMMARY:Lhotse 200 - 200 Mile Run
DESCRIPTION: Lhotse 200 - 200 Mile Run\n
  Wyatt Hockmeyer\n
  whockmeyer[at]lhotsemanagement.com
DTSTART:20180831T080000
DTEND:20180903T235900
LOCATION:Owasso, OK\, USA
URL:https://www.lhotsemanagement.com/lhotse-200.html
CATEGORIES:Ultramarathon
CONTACT:Wyatt Hockmeyer
CLASS:PUBLIC
PRIORITY:5
TRANSP:OPAQUE
END:VEVENT
END:VCALENDAR
