BEGIN:VCALENDAR
PRODID:-//http://statistik.d-u-v.org//PHP ultracalendar//EN
VERSION:2.0
METHOD:PUBLISH
BEGIN:VEVENT
DTSTAMP:20260420T001548
CREATED:20181128T193155
UID:1776644148.0.32995300-53103@statistik.d-u-v.org
SUMMARY:Rzeźnik Ultra 150/105
DESCRIPTION: Rzeźnik Ultra 150/105\n
  Mirosław Bieniecki\n
  biuro[at]biegrzeznika.pl
DTSTART:20190620T183000
DTEND:00000000T235900
LOCATION:Cisna\, POL
URL:http://www.biegrzeznika.pl/rzeznik-ultra/
CATEGORIES:Ultramarathon
CONTACT:Mirosław Bieniecki
CLASS:PUBLIC
PRIORITY:5
TRANSP:OPAQUE
END:VEVENT
END:VCALENDAR
