BEGIN:VCALENDAR
PRODID:-//http://statistik.d-u-v.org//PHP ultracalendar//EN
VERSION:2.0
METHOD:PUBLISH
BEGIN:VEVENT
DTSTAMP:20260419T233301
CREATED:20181128T190445
UID:1776641581.0.57058600-53092@statistik.d-u-v.org
SUMMARY:Trójmiejski Ultra Track Zima
DESCRIPTION: Trójmiejski Ultra Track Zima\n
  Michal Czepukojc\n
  mczepukojc[at]gmail.com
DTSTART:20190216T070000
DTEND:00000000T235900
LOCATION:Gdansk\, POL
URL:http://tutrail.pl/
CATEGORIES:Ultramarathon
CONTACT:Michal Czepukojc
CLASS:PUBLIC
PRIORITY:5
TRANSP:OPAQUE
END:VEVENT
END:VCALENDAR
