BEGIN:VCALENDAR
PRODID:-//http://statistik.d-u-v.org//PHP ultracalendar//EN
VERSION:2.0
METHOD:PUBLISH
BEGIN:VEVENT
DTSTAMP:20260425T192830
CREATED:20181123T174838
UID:1777145310.0.74772700-53000@statistik.d-u-v.org
SUMMARY:Ultra Trail Challenge Bailidujuan 100
DESCRIPTION: Ultra Trail Challenge Bailidujuan 100\n
  \n
  
DTSTART:20180922T070000
DTEND:00000000T235900
LOCATION:Bijie City\, CHN
URL:http://iranshao.com/races/9291/yearly_races/9290
CATEGORIES:Ultramarathon
CONTACT:
CLASS:PUBLIC
PRIORITY:5
TRANSP:OPAQUE
END:VEVENT
END:VCALENDAR
