BEGIN:VCALENDAR
PRODID:-//http://statistik.d-u-v.org//PHP ultracalendar//EN
VERSION:2.0
METHOD:PUBLISH
BEGIN:VEVENT
DTSTAMP:20260419T162856
CREATED:20210830T184006
UID:1776616136.0.73142300-52891@statistik.d-u-v.org
SUMMARY:Nanny Goat 100 Mile Race
DESCRIPTION: Nanny Goat 100 Mile Race\n
  Steve Harvey, Race Director\n
  
DTSTART:20210529T080000
DTEND:20210530T235900
LOCATION:Riverside, CA\, USA
URL:http://www.oldgoatraces.com/races/nanny-goat/
CATEGORIES:Ultramarathon
CONTACT:Steve Harvey, Race Director
CLASS:PUBLIC
PRIORITY:5
TRANSP:OPAQUE
END:VEVENT
END:VCALENDAR
