BEGIN:VCALENDAR
PRODID:-//http://statistik.d-u-v.org//PHP ultracalendar//EN
VERSION:2.0
METHOD:PUBLISH
BEGIN:VEVENT
DTSTAMP:20260420T160927
CREATED:20181115T103656
UID:1776701367.0.85595200-52719@statistik.d-u-v.org
SUMMARY:Self-Transcendence 6 h race Prag
DESCRIPTION: Self-Transcendence 6 h race Prag\n
  \n
  praha[at]srichinmoyraces.org
DTSTART:20190525T130000
DTEND:00000000T235900
LOCATION:Praha\, CZE
URL:http://cs.srichinmoyraces.org
CATEGORIES:Ultramarathon
CONTACT:
CLASS:PUBLIC
PRIORITY:5
TRANSP:OPAQUE
END:VEVENT
END:VCALENDAR
