BEGIN:VCALENDAR
PRODID:-//http://statistik.d-u-v.org//PHP ultracalendar//EN
VERSION:2.0
METHOD:PUBLISH
BEGIN:VEVENT
DTSTAMP:20260423T035014
CREATED:20181112T104131
UID:1776916214.0.66952700-52620@statistik.d-u-v.org
SUMMARY:Horsens 50mi
DESCRIPTION: Horsens 50mi\n
  Thomas Herbert Kokholm\n
  info[at]herbertkokholm.dk
DTSTART:20190504T120000
DTEND:00000000T235900
LOCATION:Horsens\, DEN
URL:https://herbertkokholm.dk/horsens100-miles/
CATEGORIES:Ultramarathon
CONTACT:Thomas Herbert Kokholm
CLASS:PUBLIC
PRIORITY:5
TRANSP:OPAQUE
END:VEVENT
END:VCALENDAR
