BEGIN:VCALENDAR
PRODID:-//http://statistik.d-u-v.org//PHP ultracalendar//EN
VERSION:2.0
METHOD:PUBLISH
BEGIN:VEVENT
DTSTAMP:20260419T183230
CREATED:20181110T115620
UID:1776623550.0.35744500-52586@statistik.d-u-v.org
SUMMARY:Ultrabalaton 221km
DESCRIPTION: Ultrabalaton 221km\n
  Eszter Lencsés\n
  hello[at]ultrabalaton.hu
DTSTART:20190511T060000
DTEND:20190512T180000
LOCATION:Balatonfüred\, HUN
URL:http://www.ultrabalaton.hu/
CATEGORIES:Ultramarathon
CONTACT:Eszter Lencsés
CLASS:PUBLIC
PRIORITY:5
TRANSP:OPAQUE
END:VEVENT
END:VCALENDAR
