BEGIN:VCALENDAR
PRODID:-//http://statistik.d-u-v.org//PHP ultracalendar//EN
VERSION:2.0
METHOD:PUBLISH
BEGIN:VEVENT
DTSTAMP:20260419T211243
CREATED:20181109T094040
UID:1776633163.0.91516500-52548@statistik.d-u-v.org
SUMMARY:The Nutcracker
DESCRIPTION: The Nutcracker\n
  \n
  events[at]distance.gg
DTSTART:20181028T000000
DTEND:00000000T235900
LOCATION:Torteval\, GBR
URL:http://distance.gg
CATEGORIES:Ultramarathon
CONTACT:
CLASS:PUBLIC
PRIORITY:5
TRANSP:OPAQUE
END:VEVENT
END:VCALENDAR
