BEGIN:VCALENDAR
PRODID:-//http://statistik.d-u-v.org//PHP ultracalendar//EN
VERSION:2.0
METHOD:PUBLISH
BEGIN:VEVENT
DTSTAMP:20260424T150850
CREATED:20181107T152200
UID:1777043330.0.56798500-52524@statistik.d-u-v.org
SUMMARY:8-Hour Dream Endurance Race
DESCRIPTION: 8-Hour Dream Endurance Race\n
  \n
  
DTSTART:20190720T120000
DTEND:00000000T235900
LOCATION:Indianapolis, IN\, USA
URL:http://www.8hourdream.com/
CATEGORIES:Ultramarathon
CONTACT:
CLASS:PUBLIC
PRIORITY:5
TRANSP:OPAQUE
END:VEVENT
END:VCALENDAR
