BEGIN:VCALENDAR
PRODID:-//http://statistik.d-u-v.org//PHP ultracalendar//EN
VERSION:2.0
METHOD:PUBLISH
BEGIN:VEVENT
DTSTAMP:20260422T234928
CREATED:20181106T211245
UID:1776901768.0.00402400-52510@statistik.d-u-v.org
SUMMARY:Hunsbuckel Trail
DESCRIPTION: Hunsbuckel Trail\n
  hubut@tus-laubach.de\n
  hubut[at]tus-laubach.de
DTSTART:20190818T070000
DTEND:00000000T235900
LOCATION:Laubach\, GER
URL:http://hunsbuckel-trail.de
CATEGORIES:Ultramarathon
CONTACT:hubut@tus-laubach.de
CLASS:PUBLIC
PRIORITY:5
TRANSP:OPAQUE
END:VEVENT
END:VCALENDAR
