BEGIN:VCALENDAR
PRODID:-//http://statistik.d-u-v.org//PHP ultracalendar//EN
VERSION:2.0
METHOD:PUBLISH
BEGIN:VEVENT
DTSTAMP:20260425T180045
CREATED:20181104T220337
UID:1777140045.0.80582600-52461@statistik.d-u-v.org
SUMMARY:La Chouffe Trail 47km
DESCRIPTION: La Chouffe Trail 47km\n
  \n
  
DTSTART:20190713T080000
DTEND:00000000T235900
LOCATION:Houffalize\, BEL
URL:http://www.sportevents.be/fr/xtrails-houffalize-estival/
CATEGORIES:Ultramarathon
CONTACT:
CLASS:PUBLIC
PRIORITY:5
TRANSP:OPAQUE
END:VEVENT
END:VCALENDAR
