BEGIN:VCALENDAR
PRODID:-//http://statistik.d-u-v.org//PHP ultracalendar//EN
VERSION:2.0
METHOD:PUBLISH
BEGIN:VEVENT
DTSTAMP:20260420T000708
CREATED:20191025T183347
UID:1776643628.0.77292900-51971@statistik.d-u-v.org
SUMMARY:The Golden Ultra 60 km Ultramarathon
DESCRIPTION: The Golden Ultra 60 km Ultramarathon\n
  \n
  registration[at]goldenultra.com
DTSTART:20200919T000000
DTEND:20200919T235900
LOCATION:Golden, BC\, CAN
URL:http://www.goldenultra.com/
CATEGORIES:Ultramarathon
CONTACT:
CLASS:PUBLIC
PRIORITY:5
TRANSP:OPAQUE
END:VEVENT
END:VCALENDAR
