BEGIN:VCALENDAR
PRODID:-//http://statistik.d-u-v.org//PHP ultracalendar//EN
VERSION:2.0
METHOD:PUBLISH
BEGIN:VEVENT
DTSTAMP:20260420T035220
CREATED:20181018T130203
UID:1776657140.0.93411300-51877@statistik.d-u-v.org
SUMMARY:Dances with Dirt - Gnaw Bone 50 km Ultra
DESCRIPTION: Dances with Dirt - Gnaw Bone 50 km Ultra\n
  Dawn McConnachie\n
  events[at]runningfit.com
DTSTART:20190518T061500
DTEND:00000000T235900
LOCATION:Nashville, IN\, USA
URL:http://dwdgnawbone.com/
CATEGORIES:Ultramarathon
CONTACT:Dawn McConnachie
CLASS:PUBLIC
PRIORITY:5
TRANSP:OPAQUE
END:VEVENT
END:VCALENDAR
