BEGIN:VCALENDAR
PRODID:-//http://statistik.d-u-v.org//PHP ultracalendar//EN
VERSION:2.0
METHOD:PUBLISH
BEGIN:VEVENT
DTSTAMP:20260423T035944
CREATED:20181016T132557
UID:1776916784.0.19005200-51825@statistik.d-u-v.org
SUMMARY:Crazy Desert Trail Race 100 km Race
DESCRIPTION: Crazy Desert Trail Race 100 km Race\n
  \n
  
DTSTART:20190309T060000
DTEND:00000000T235900
LOCATION:San Angelo, TX\, USA
URL:http://www.trailracingovertexas.com/crazy-desert-trail-race/
CATEGORIES:Ultramarathon
CONTACT:
CLASS:PUBLIC
PRIORITY:5
TRANSP:OPAQUE
END:VEVENT
END:VCALENDAR
