BEGIN:VCALENDAR
PRODID:-//http://statistik.d-u-v.org//PHP ultracalendar//EN
VERSION:2.0
METHOD:PUBLISH
BEGIN:VEVENT
DTSTAMP:20260423T002725
CREATED:20091023T160011
UID:1776904045.0.23172900-5173@statistik.d-u-v.org
SUMMARY:Lone Ranger 24 hr Ultra-Marathon
DESCRIPTION: Lone Ranger 24 hr Ultra-Marathon\n
  \n
  anne[at]backonmyfeet.org
DTSTART:20100717T000000
DTEND:20100718T235900
LOCATION:Philadelphia, PA\, USA
URL:http://www.20in24.com/main/index.html
CATEGORIES:Ultramarathon
CONTACT:
CLASS:PUBLIC
PRIORITY:5
TRANSP:OPAQUE
END:VEVENT
END:VCALENDAR
