BEGIN:VCALENDAR
PRODID:-//http://statistik.d-u-v.org//PHP ultracalendar//EN
VERSION:2.0
METHOD:PUBLISH
BEGIN:VEVENT
DTSTAMP:20260423T011131
CREATED:20181005T130056
UID:1776906691.0.63549500-51544@statistik.d-u-v.org
SUMMARY:Andorra UT Vallnord / Eufòria
DESCRIPTION: Andorra UT Vallnord / Eufòria\n
  Lídia Martinez\n
  info[at]andorraultratrail.org
DTSTART:20190717T070000
DTEND:20190721T210000
LOCATION:Ordino\, AND
URL:http://www.andorraultratrail.org
CATEGORIES:Ultramarathon
CONTACT:Lídia Martinez
CLASS:PUBLIC
PRIORITY:5
TRANSP:OPAQUE
END:VEVENT
END:VCALENDAR
