BEGIN:VCALENDAR
PRODID:-//http://statistik.d-u-v.org//PHP ultracalendar//EN
VERSION:2.0
METHOD:PUBLISH
BEGIN:VEVENT
DTSTAMP:20260424T143226
CREATED:20180926T094903
UID:1777041146.0.18954100-51437@statistik.d-u-v.org
SUMMARY:Rovaniemi Arctic Winter 66 Km Race
DESCRIPTION: Rovaniemi Arctic Winter 66 Km Race\n
  Alex S.Casanovas, Race Director\n
  races[at]rovaniemi150.com
DTSTART:20190223T090000
DTEND:20190224T030000
LOCATION:Rovaniemi\, FIN
URL:http://www.rovaniemi150.com/
CATEGORIES:Ultramarathon
CONTACT:Alex S.Casanovas, Race Director
CLASS:PUBLIC
PRIORITY:5
TRANSP:OPAQUE
END:VEVENT
END:VCALENDAR
