BEGIN:VCALENDAR
PRODID:-//http://statistik.d-u-v.org//PHP ultracalendar//EN
VERSION:2.0
METHOD:PUBLISH
BEGIN:VEVENT
DTSTAMP:20260424T143224
CREATED:20180926T094900
UID:1777041144.0.91567600-51436@statistik.d-u-v.org
SUMMARY:Rovaniemi Arctic Winter 150 Km Races
DESCRIPTION: Rovaniemi Arctic Winter 150 Km Races\n
  Àlex S.Casanovas, Race Director\n
  races[at]rovaniemi150.com
DTSTART:20190223T090000
DTEND:20190225T030000
LOCATION:Rovaniemi\, FIN
URL:http://www.rovaniemi150.com/
CATEGORIES:Ultramarathon
CONTACT:Àlex S.Casanovas, Race Director
CLASS:PUBLIC
PRIORITY:5
TRANSP:OPAQUE
END:VEVENT
END:VCALENDAR
