BEGIN:VCALENDAR
PRODID:-//http://statistik.d-u-v.org//PHP ultracalendar//EN
VERSION:2.0
METHOD:PUBLISH
BEGIN:VEVENT
DTSTAMP:20260420T050004
CREATED:20180921T105425
UID:1776661204.0.27074400-51337@statistik.d-u-v.org
SUMMARY:Margaret River Ultra
DESCRIPTION: Margaret River Ultra\n
  \n
  info[at]rapidascent.com.au
DTSTART:20190504T070000
DTEND:00000000T235900
LOCATION:Hamelin Bay, WA\, AUS
URL:http://rapidascent.com.au/MargaretRiverUltra/
CATEGORIES:Ultramarathon
CONTACT:
CLASS:PUBLIC
PRIORITY:5
TRANSP:OPAQUE
END:VEVENT
END:VCALENDAR
