BEGIN:VCALENDAR
PRODID:-//http://statistik.d-u-v.org//PHP ultracalendar//EN
VERSION:2.0
METHOD:PUBLISH
BEGIN:VEVENT
DTSTAMP:20260419T173540
CREATED:20180919T033423
UID:1776620140.0.88791600-51265@statistik.d-u-v.org
SUMMARY:New Delhi 12 Hour Stadium Run
DESCRIPTION: New Delhi 12 Hour Stadium Run\n
  \n
  
DTSTART:20170121T060000
DTEND:00000000T235900
LOCATION:New Delhi\, IND
URL:https://www.facebook.com/events/1836092463323818/?active_tab=discussion
CATEGORIES:Ultramarathon
CONTACT:
CLASS:PUBLIC
PRIORITY:5
TRANSP:OPAQUE
END:VEVENT
END:VCALENDAR
