BEGIN:VCALENDAR
PRODID:-//http://statistik.d-u-v.org//PHP ultracalendar//EN
VERSION:2.0
METHOD:PUBLISH
BEGIN:VEVENT
DTSTAMP:20260421T133339
CREATED:20180910T221204
UID:1776778419.0.27046800-51089@statistik.d-u-v.org
SUMMARY:50 km del Vulcano
DESCRIPTION: 50 km del Vulcano\n
  \n
  info[at]100delvulcano.com
DTSTART:20180909T090000
DTEND:00000000T235900
LOCATION:Bronte\, ITA
URL:http://100delvulcano.com/
CATEGORIES:Ultramarathon
CONTACT:
CLASS:PUBLIC
PRIORITY:5
TRANSP:OPAQUE
END:VEVENT
END:VCALENDAR
