BEGIN:VCALENDAR
PRODID:-//http://statistik.d-u-v.org//PHP ultracalendar//EN
VERSION:2.0
METHOD:PUBLISH
BEGIN:VEVENT
DTSTAMP:20260423T033622
CREATED:20180910T094749
UID:1776915382.0.42198400-51073@statistik.d-u-v.org
SUMMARY:Mo' Bell 50 Miles
DESCRIPTION: Mo' Bell 50 Miles\n
  \n
  
DTSTART:20180804T000000
DTEND:20180806T235900
LOCATION:Burns, TN\, USA
URL:https://runawesomesauce.com/a/races/mo-bell/
CATEGORIES:Ultramarathon
CONTACT:
CLASS:PUBLIC
PRIORITY:5
TRANSP:OPAQUE
END:VEVENT
END:VCALENDAR
