BEGIN:VCALENDAR
PRODID:-//http://statistik.d-u-v.org//PHP ultracalendar//EN
VERSION:2.0
METHOD:PUBLISH
BEGIN:VEVENT
DTSTAMP:20260423T052612
CREATED:20180906T105724
UID:1776921972.0.13584000-51018@statistik.d-u-v.org
SUMMARY:Pisgah Fish Hatchery 50K
DESCRIPTION: Pisgah Fish Hatchery 50K\n
  \n
  
DTSTART:20180902T064000
DTEND:00000000T235900
LOCATION:Pisgah Forest, NC\, USA
URL:https://ultrasignup.com/register.aspx?did=58957
CATEGORIES:Ultramarathon
CONTACT:
CLASS:PUBLIC
PRIORITY:5
TRANSP:OPAQUE
END:VEVENT
END:VCALENDAR
