BEGIN:VCALENDAR
PRODID:-//http://statistik.d-u-v.org//PHP ultracalendar//EN
VERSION:2.0
METHOD:PUBLISH
BEGIN:VEVENT
DTSTAMP:20260423T002810
CREATED:20180905T035123
UID:1776904090.0.15546300-51008@statistik.d-u-v.org
SUMMARY:Malatra Endurance Run 12h
DESCRIPTION: Malatra Endurance Run 12h\n
  \n
  
DTSTART:20181229T120000
DTEND:00000000T235900
LOCATION:Putrajaya\, MAS
URL:https://register.raceyaya.com/events/malatra-endurance-run-2017
CATEGORIES:Ultramarathon
CONTACT:
CLASS:PUBLIC
PRIORITY:5
TRANSP:OPAQUE
END:VEVENT
END:VCALENDAR
