BEGIN:VCALENDAR
PRODID:-//http://statistik.d-u-v.org//PHP ultracalendar//EN
VERSION:2.0
METHOD:PUBLISH
BEGIN:VEVENT
DTSTAMP:20260419T185836
CREATED:20180831T143931
UID:1776625116.0.20862100-50923@statistik.d-u-v.org
SUMMARY:Bishop High Sierra Ultramarathons 50 km
DESCRIPTION: Bishop High Sierra Ultramarathons 50 km\n
  \n
  
DTSTART:20180602T000000
DTEND:00000000T235900
LOCATION:Bishop, CA\, USA
URL:http://bishopultras.com/bhsu/
CATEGORIES:Ultramarathon
CONTACT:
CLASS:PUBLIC
PRIORITY:5
TRANSP:OPAQUE
END:VEVENT
END:VCALENDAR
