BEGIN:VCALENDAR
PRODID:-//http://statistik.d-u-v.org//PHP ultracalendar//EN
VERSION:2.0
METHOD:PUBLISH
BEGIN:VEVENT
DTSTAMP:20260419T192738
CREATED:20180828T114259
UID:1776626858.0.90469200-50828@statistik.d-u-v.org
SUMMARY:Run Under The Stars 10 Hour Endurance Run
DESCRIPTION: Run Under The Stars 10 Hour Endurance Run\n
  \n
  
DTSTART:20180707T200000
DTEND:20180708T235900
LOCATION:Corydon, IN\, USA
URL:https://runsignup.com/Race/TN/OakRidgeTNPaducahKYCorydonIN/RunUnderTheStarsallnightrun
CATEGORIES:Ultramarathon
CONTACT:
CLASS:PUBLIC
PRIORITY:5
TRANSP:OPAQUE
END:VEVENT
END:VCALENDAR
