BEGIN:VCALENDAR
PRODID:-//http://statistik.d-u-v.org//PHP ultracalendar//EN
VERSION:2.0
METHOD:PUBLISH
BEGIN:VEVENT
DTSTAMP:20260419T182126
CREATED:20180822T093518
UID:1776622886.0.59178600-50604@statistik.d-u-v.org
SUMMARY:J&J Race and Trail Running Reunion 100 Km Race
DESCRIPTION: J&J Race and Trail Running Reunion 100 Km Race\n
  Chris McWatters\n
  chris[at]tejastrails.com
DTSTART:20180928T200000
DTEND:20180929T235900
LOCATION:Rocksprings, TX\, USA
URL:https://www.tejastrails.com/#/jandj/
CATEGORIES:Ultramarathon
CONTACT:Chris McWatters
CLASS:PUBLIC
PRIORITY:5
TRANSP:OPAQUE
END:VEVENT
END:VCALENDAR
