BEGIN:VCALENDAR
PRODID:-//http://statistik.d-u-v.org//PHP ultracalendar//EN
VERSION:2.0
METHOD:PUBLISH
BEGIN:VEVENT
DTSTAMP:20260423T023837
CREATED:20120112T163027
UID:1776911917.0.84356500-5045@statistik.d-u-v.org
SUMMARY:Badgerland F/X 24 Hour Run
DESCRIPTION: Badgerland F/X 24 Hour Run\n
  Robert Wehner\n
  rwehner[at]hotmail.com
DTSTART:20120901T080000
DTEND:20120902T235900
LOCATION:Germantown, WI\, USA
URL:http://www.badgerlandstriders.org/home/Races/Badgerland24126HourRun.htm
CATEGORIES:Ultramarathon
CONTACT:Robert Wehner
CLASS:PUBLIC
PRIORITY:5
TRANSP:OPAQUE
END:VEVENT
END:VCALENDAR
