BEGIN:VCALENDAR
PRODID:-//http://statistik.d-u-v.org//PHP ultracalendar//EN
VERSION:2.0
METHOD:PUBLISH
BEGIN:VEVENT
DTSTAMP:20260423T020104
CREATED:20180813T183314
UID:1776909664.0.34727600-50430@statistik.d-u-v.org
SUMMARY:Urban ICT 50 Mile Race
DESCRIPTION: Urban ICT 50 Mile Race\n
  Steven Fitch\n
  steven.fitch[at]teamrwb.org
DTSTART:20180727T000000
DTEND:00000000T235900
LOCATION:Wichita, KS\, USA
URL:https://www.teamrwb.org/event/urban-ict/
CATEGORIES:Ultramarathon
CONTACT:Steven Fitch
CLASS:PUBLIC
PRIORITY:5
TRANSP:OPAQUE
END:VEVENT
END:VCALENDAR
