BEGIN:VCALENDAR
PRODID:-//http://statistik.d-u-v.org//PHP ultracalendar//EN
VERSION:2.0
METHOD:PUBLISH
BEGIN:VEVENT
DTSTAMP:20260424T131625
CREATED:20180813T085036
UID:1777036585.0.44665800-50416@statistik.d-u-v.org
SUMMARY:Energia 100 Km Race
DESCRIPTION: Energia 100 Km Race\n
  Ed Smith\n
  ed_n_smith[at]hotmail.com
DTSTART:20180623T130000
DTEND:00000000T235900
LOCATION:Belfast\, GBR
URL:http://www.energia24.co.uk
CATEGORIES:Ultramarathon
CONTACT:Ed Smith
CLASS:PUBLIC
PRIORITY:5
TRANSP:OPAQUE
END:VEVENT
END:VCALENDAR
