BEGIN:VCALENDAR
PRODID:-//http://statistik.d-u-v.org//PHP ultracalendar//EN
VERSION:2.0
METHOD:PUBLISH
BEGIN:VEVENT
DTSTAMP:20260419T223151
CREATED:20180804T110253
UID:1776637911.0.97412400-50271@statistik.d-u-v.org
SUMMARY:Dirty Dozen 6h Endurance Run
DESCRIPTION: Dirty Dozen 6h Endurance Run\n
  \n
  
DTSTART:20180707T070000
DTEND:00000000T235900
LOCATION:Pinole, CA\, USA
URL:http://www.brazenracing.com/dirtydozen.html
CATEGORIES:Ultramarathon
CONTACT:
CLASS:PUBLIC
PRIORITY:5
TRANSP:OPAQUE
END:VEVENT
END:VCALENDAR
