BEGIN:VCALENDAR
PRODID:-//http://statistik.d-u-v.org//PHP ultracalendar//EN
VERSION:2.0
METHOD:PUBLISH
BEGIN:VEVENT
DTSTAMP:20260419T192421
CREATED:20180803T205716
UID:1776626661.0.98925000-50235@statistik.d-u-v.org
SUMMARY:Last at the Lake 24 Hour Run
DESCRIPTION: Last at the Lake 24 Hour Run\n
  \n
  
DTSTART:20180728T080000
DTEND:20180729T235900
LOCATION:West Point Lake, GA\, USA
URL:https://www.facebook.com/Last-at-the-Lake-173218186780338/
CATEGORIES:Ultramarathon
CONTACT:
CLASS:PUBLIC
PRIORITY:5
TRANSP:OPAQUE
END:VEVENT
END:VCALENDAR
