BEGIN:VCALENDAR
PRODID:-//http://statistik.d-u-v.org//PHP ultracalendar//EN
VERSION:2.0
METHOD:PUBLISH
BEGIN:VEVENT
DTSTAMP:20260419T211116
CREATED:20180803T190112
UID:1776633076.0.66809000-50227@statistik.d-u-v.org
SUMMARY:Jetty-2-Jetty Beach Ultra
DESCRIPTION: Jetty-2-Jetty Beach Ultra\n
  \n
  
DTSTART:20110319T000000
DTEND:00000000T235900
LOCATION:Jacksonville, FL\, USA
URL:http://www.PerformanceMultisports.com/Jetty2JUltra.htm
CATEGORIES:Ultramarathon
CONTACT:
CLASS:PUBLIC
PRIORITY:5
TRANSP:OPAQUE
END:VEVENT
END:VCALENDAR
