BEGIN:VCALENDAR
PRODID:-//http://statistik.d-u-v.org//PHP ultracalendar//EN
VERSION:2.0
METHOD:PUBLISH
BEGIN:VEVENT
DTSTAMP:20260421T031930
CREATED:20180729T202839
UID:1776741570.0.30709800-50078@statistik.d-u-v.org
SUMMARY:Trail de Vulcain Ultra - Marathon Volcanique
DESCRIPTION: Trail de Vulcain Ultra - Marathon Volcanique\n
  BATISSE Pierre\n
  contact[at]trail-de-vulcain.fr
DTSTART:20190303T083000
DTEND:00000000T235900
LOCATION:Volvic\, FRA
URL:http://trail-de-vulcain.fr/
CATEGORIES:Ultramarathon
CONTACT:BATISSE Pierre
CLASS:PUBLIC
PRIORITY:5
TRANSP:OPAQUE
END:VEVENT
END:VCALENDAR
