BEGIN:VCALENDAR
PRODID:-//http://statistik.d-u-v.org//PHP ultracalendar//EN
VERSION:2.0
METHOD:PUBLISH
BEGIN:VEVENT
DTSTAMP:20260423T085515
CREATED:20180726T192203
UID:1776934515.0.63360600-50045@statistik.d-u-v.org
SUMMARY:Black Mountain 50K
DESCRIPTION: Black Mountain 50K\n
  \n
  
DTSTART:20190629T000000
DTEND:00000000T235900
LOCATION:San Diego, CA\, USA
URL:http://www.blackmtn50k.com/
CATEGORIES:Ultramarathon
CONTACT:
CLASS:PUBLIC
PRIORITY:5
TRANSP:OPAQUE
END:VEVENT
END:VCALENDAR
