BEGIN:VCALENDAR
PRODID:-//http://statistik.d-u-v.org//PHP ultracalendar//EN
VERSION:2.0
METHOD:PUBLISH
BEGIN:VEVENT
DTSTAMP:20260419T204139
CREATED:20180724T083239
UID:1776631299.0.79195600-50005@statistik.d-u-v.org
SUMMARY:24h-Benefizlauf des TuS Breitscheid
DESCRIPTION: 24h-Benefizlauf des TuS Breitscheid\n
  Bernd Krayer\n
  leichtathletik[at]tus-breitscheid.de
DTSTART:20180907T180000
DTEND:20180908T180000
LOCATION:Ratingen\, GER
URL:https://my2.raceresult.com/102003/registration?lang=de
CATEGORIES:Ultramarathon
CONTACT:Bernd Krayer
CLASS:PUBLIC
PRIORITY:5
TRANSP:OPAQUE
END:VEVENT
END:VCALENDAR
