BEGIN:VCALENDAR
PRODID:-//http://statistik.d-u-v.org//PHP ultracalendar//EN
VERSION:2.0
METHOD:PUBLISH
BEGIN:VEVENT
DTSTAMP:20260419T154841
CREATED:20070303T000000
UID:1776613721.0.15003400-5@statistik.d-u-v.org
SUMMARY:des 48 heures pédestres de Surgères - 6h Split
DESCRIPTION: des 48 heures pédestres de Surgères - 6h Split\n
  \n
  
DTSTART:20050513T000000
DTEND:00000000T235900
LOCATION:Surgeres\, FRA
URL:http://www.48heures-surgeres.net/
CATEGORIES:Ultramarathon
CONTACT:
CLASS:PUBLIC
PRIORITY:5
TRANSP:OPAQUE
END:VEVENT
END:VCALENDAR
