BEGIN:VCALENDAR
PRODID:-//http://statistik.d-u-v.org//PHP ultracalendar//EN
VERSION:2.0
METHOD:PUBLISH
BEGIN:VEVENT
DTSTAMP:20260425T163940
CREATED:20061008T000000
UID:1777135180.0.32565800-498@statistik.d-u-v.org
SUMMARY:IAU 24h WC Taipei Yuanshan
DESCRIPTION: IAU 24h WC Taipei Yuanshan\n
  \n
  kfc[at]cis.scu.edu.tw
DTSTART:20060225T000000
DTEND:20060226T235900
LOCATION:Taipei\, TPE
URL:http://www.iau.org.tw/competition_detail.php?Id=6&SubId=14
CATEGORIES:Ultramarathon
CONTACT:
CLASS:PUBLIC
PRIORITY:5
TRANSP:OPAQUE
END:VEVENT
END:VCALENDAR
