BEGIN:VCALENDAR
PRODID:-//http://statistik.d-u-v.org//PHP ultracalendar//EN
VERSION:2.0
METHOD:PUBLISH
BEGIN:VEVENT
DTSTAMP:20260424T141903
CREATED:20180711T185039
UID:1777040343.0.81491600-49791@statistik.d-u-v.org
SUMMARY:LX3 Timed Event 12 hour
DESCRIPTION: LX3 Timed Event 12 hour\n
  \n
  
DTSTART:20180428T050000
DTEND:00000000T235900
LOCATION:Washington, MO\, USA
URL:https://www.facebook.com/events/359711641035863/
CATEGORIES:Ultramarathon
CONTACT:
CLASS:PUBLIC
PRIORITY:5
TRANSP:OPAQUE
END:VEVENT
END:VCALENDAR
