BEGIN:VCALENDAR
PRODID:-//http://statistik.d-u-v.org//PHP ultracalendar//EN
VERSION:2.0
METHOD:PUBLISH
BEGIN:VEVENT
DTSTAMP:20260420T160930
CREATED:20180710T230916
UID:1776701370.0.88163000-49747@statistik.d-u-v.org
SUMMARY:Hamburger Reformationstag-Ultramarathon
DESCRIPTION: Hamburger Reformationstag-Ultramarathon\n
  Christian Hottas\n
  chhottas2[at]yahoo.de
DTSTART:20191031T100000
DTEND:00000000T235900
LOCATION:Hamburg\, GER
URL:http://my.raceresult.com/137554/?lang=de
CATEGORIES:Ultramarathon
CONTACT:Christian Hottas
CLASS:PUBLIC
PRIORITY:5
TRANSP:OPAQUE
END:VEVENT
END:VCALENDAR
