BEGIN:VCALENDAR
PRODID:-//http://statistik.d-u-v.org//PHP ultracalendar//EN
VERSION:2.0
METHOD:PUBLISH
BEGIN:VEVENT
DTSTAMP:20260423T050334
CREATED:20180701T150440
UID:1776920614.0.74416900-49600@statistik.d-u-v.org
SUMMARY:Taupo Ultramarathon 100km
DESCRIPTION: Taupo Ultramarathon 100km\n
  \n
  run[at]taupoultra.com
DTSTART:20181013T060000
DTEND:00000000T235900
LOCATION:Waihaha Bridge\, NZL
URL:http://www.taupoultra.com/
CATEGORIES:Ultramarathon
CONTACT:
CLASS:PUBLIC
PRIORITY:5
TRANSP:OPAQUE
END:VEVENT
END:VCALENDAR
