BEGIN:VCALENDAR
PRODID:-//http://statistik.d-u-v.org//PHP ultracalendar//EN
VERSION:2.0
METHOD:PUBLISH
BEGIN:VEVENT
DTSTAMP:20260419T185736
CREATED:20180625T135418
UID:1776625056.0.84126000-49451@statistik.d-u-v.org
SUMMARY:Grand Island 50 km Race
DESCRIPTION: Grand Island 50 km Race\n
  Jeff Crumbaugh\n
  info[at]greatlakesendurance.com
DTSTART:20180721T060000
DTEND:00000000T235900
LOCATION:Munising, MI\, USA
URL:https://www.greatlakesendurance.com/michigan-races/grand-island-trail-marathon.html
CATEGORIES:Ultramarathon
CONTACT:Jeff Crumbaugh
CLASS:PUBLIC
PRIORITY:5
TRANSP:OPAQUE
END:VEVENT
END:VCALENDAR
