BEGIN:VCALENDAR
PRODID:-//http://statistik.d-u-v.org//PHP ultracalendar//EN
VERSION:2.0
METHOD:PUBLISH
BEGIN:VEVENT
DTSTAMP:20260423T041028
CREATED:20180618T163725
UID:1776917428.0.29397700-49321@statistik.d-u-v.org
SUMMARY:Vietnam Mountain Marathon 100km
DESCRIPTION: Vietnam Mountain Marathon 100km\n
  Asger Køppen\n
  feedback[at]vietnammountainmarathon.com
DTSTART:20180921T203000
DTEND:20180922T223000
LOCATION:Sapa town\, VIE
URL:http://vietnammountainmarathon.com/en/run-only/
CATEGORIES:Ultramarathon
CONTACT:Asger Køppen
CLASS:PUBLIC
PRIORITY:5
TRANSP:OPAQUE
END:VEVENT
END:VCALENDAR
