BEGIN:VCALENDAR
PRODID:-//http://statistik.d-u-v.org//PHP ultracalendar//EN
VERSION:2.0
METHOD:PUBLISH
BEGIN:VEVENT
DTSTAMP:20260423T022730
CREATED:20180617T123108
UID:1776911250.0.46399800-49305@statistik.d-u-v.org
SUMMARY:Tortoise and the Hare 50K
DESCRIPTION: Tortoise and the Hare 50K\n
  Race Director Jeremy McAlister & Toni McAlister\n
  info[at]tortoiseandthehareracing.com
DTSTART:20180929T000000
DTEND:00000000T235900
LOCATION:Blue Ridge, GA\, USA
URL:https://tortoiseandthehareracing.racesonline.com/
CATEGORIES:Ultramarathon
CONTACT:Race Director Jeremy McAlister & Toni McAlister
CLASS:PUBLIC
PRIORITY:5
TRANSP:OPAQUE
END:VEVENT
END:VCALENDAR
