BEGIN:VCALENDAR
PRODID:-//http://statistik.d-u-v.org//PHP ultracalendar//EN
VERSION:2.0
METHOD:PUBLISH
BEGIN:VEVENT
DTSTAMP:20260423T023807
CREATED:20180614T222213
UID:1776911887.0.69484600-49271@statistik.d-u-v.org
SUMMARY:Potawatomi 100 Mile Trail Run
DESCRIPTION: Potawatomi 100 Mile Trail Run\n
  Rich and Eric Skocaj\n
  rskocaj[at]gmail.com
DTSTART:20170406T060000
DTEND:20170407T235900
LOCATION:Pekin, IL\, USA
URL:http://www.potawatomitrailruns.com/
CATEGORIES:Ultramarathon
CONTACT:Rich and Eric Skocaj
CLASS:PUBLIC
PRIORITY:5
TRANSP:OPAQUE
END:VEVENT
END:VCALENDAR
